BEGIN:VCALENDAR
VERSION:2.0
PRODID:-//hacksw/handcal//NONSGML v1.0//EN
CALSCALE:GREGORIAN
BEGIN:VEVENT
LOCATION:Embassy of Sweden / Club Room (B1)
DTSTART;TZID=ASIA/TOKYO:20181216T183000
DTEND;TZID=ASIA/TOKYO:20181216T203000
SUMMARY:Women's Impact Network (WIN) Impact Speaking training session with Helen Iwata
URL;VALUE=URI:www.sccj.org/events/47
DESCRIPTION:More information in www.sccj.org/events/47
DTSTAMP:20260424T040242
UID:69ea6cd213533
END:VEVENT
END:VCALENDAR