BEGIN:VCALENDAR
VERSION:2.0
PRODID:-//hacksw/handcal//NONSGML v1.0//EN
CALSCALE:GREGORIAN
BEGIN:VEVENT
LOCATION:Waldorf Astoria Osaka\, Grand Ballroom (2F)
DTSTART;TZID=ASIA/TOKYO:20260605T183000
DTEND;TZID=ASIA/TOKYO:20260605T203000
SUMMARY:Kansai International Meishi Exchange
URL;VALUE=URI:www.sccj.org/events/270
DESCRIPTION:More information in www.sccj.org/events/270
DTSTAMP:20260421T172028
UID:69e7334c428e1
END:VEVENT
END:VCALENDAR