BEGIN:VCALENDAR
VERSION:2.0
PRODID:-//hacksw/handcal//NONSGML v1.0//EN
CALSCALE:GREGORIAN
BEGIN:VEVENT
LOCATION:Business Sweden\, Ark Mori Building\, Tokyo
DTSTART;TZID=ASIA/TOKYO:20260605T150000
DTEND;TZID=ASIA/TOKYO:20260605T170000
SUMMARY:Workshop Training #3: Human x AI Co-Creation Lab
URL;VALUE=URI:www.sccj.org/events/269
DESCRIPTION:More information in www.sccj.org/events/269
DTSTAMP:20260421T203608
UID:69e76128eaa8e
END:VEVENT
END:VCALENDAR