BEGIN:VCALENDAR
VERSION:2.0
PRODID:-//hacksw/handcal//NONSGML v1.0//EN
CALSCALE:GREGORIAN
BEGIN:VEVENT
LOCATION:Ark Mori Building\, Tokyo
DTSTART;TZID=ASIA/TOKYO:20260529T150000
DTEND;TZID=ASIA/TOKYO:20260529T170000
SUMMARY:Workshop Training #2: Inner Development and Self-Leadership
URL;VALUE=URI:www.sccj.org/events/268
DESCRIPTION:More information in www.sccj.org/events/268
DTSTAMP:20260421T175244
UID:69e73adcd914c
END:VEVENT
END:VCALENDAR