BEGIN:VCALENDAR
VERSION:2.0
PRODID:-//hacksw/handcal//NONSGML v1.0//EN
CALSCALE:GREGORIAN
BEGIN:VEVENT
LOCATION:Business Sweden Office\, Ark Mori Building\, Tokyo
DTSTART;TZID=ASIA/TOKYO:20260522T150000
DTEND;TZID=ASIA/TOKYO:20260522T170000
SUMMARY:Workshop Training #1: Adaptive and Collaborative Skills
URL;VALUE=URI:www.sccj.org/events/267
DESCRIPTION:More information in www.sccj.org/events/267
DTSTAMP:20260421T172028
UID:69e7334c06b8b
END:VEVENT
END:VCALENDAR