BEGIN:VCALENDAR
VERSION:2.0
PRODID:-//hacksw/handcal//NONSGML v1.0//EN
CALSCALE:GREGORIAN
BEGIN:VEVENT
LOCATION:Sasazuka Bowl
DTSTART;TZID=ASIA/TOKYO:20230314T190000
DTEND;TZID=ASIA/TOKYO:20230314T223000
SUMMARY:(SOLD OUT) SCCJ Team Bowling Competition
URL;VALUE=URI:www.sccj.org/events/161
DESCRIPTION:More information in www.sccj.org/events/161
DTSTAMP:20260421T174224
UID:69e738700414e
END:VEVENT
END:VCALENDAR